BEGIN:VCALENDAR
VERSION:2.0
PRODID:-//Festivals - ECPv6.2.2//NONSGML v1.0//EN
CALSCALE:GREGORIAN
METHOD:PUBLISH
X-WR-CALNAME:Festivals
X-ORIGINAL-URL:https://festivals.certainblacks.com
X-WR-CALDESC:Events for Festivals
REFRESH-INTERVAL;VALUE=DURATION:PT1H
X-Robots-Tag:noindex
X-PUBLISHED-TTL:PT1H
BEGIN:VTIMEZONE
TZID:UTC
BEGIN:STANDARD
TZOFFSETFROM:+0000
TZOFFSETTO:+0000
TZNAME:UTC
DTSTART:20230101T000000
END:STANDARD
END:VTIMEZONE
BEGIN:VEVENT
DTSTART;TZID=UTC:20230722T080000
DTEND;TZID=UTC:20230722T170000
DTSTAMP:20260419T212857
CREATED:20230604T190053Z
LAST-MODIFIED:20230628T114406Z
UID:22925-1690012800-1690045200@festivals.certainblacks.com
SUMMARY:Sonia Sabri Company - Mughal Miniatures: The Awakening
DESCRIPTION:The Awakening\n‘Mughal Miniatures’ is upbeat and fun\, with performers in sumptuous costumes creating vibrant and colourful mini worlds of dance\, music and puppetry. A series of pop-up\, living pictures evoke scenes of Indian princely courts and lush gardens\, and the glory of the Mughal period with a contemporary twist\, undercutting expectations and delighting and surprising passers-by. \n  \nhttps://festivals.certainblacks.com/wp-content/uploads/2023/06/Mughal-Miniatures.mp4\n  \nWe invite you to step back in time and join us at court to meet the feisty Queen; to dance as if no one is watching in the monsoon; to tame a cheeky peacock; to hunt in the forest; and to join in the procession of noble elephants. But everything is not as it seems\, and our well-behaved characters have grown tired of their restrictive frames. With the help of you our audience they can break free not only of their pictorial frames\, but also of society’s expectations. \nIndian miniature painting of 9th and 10th century was hugely multicultural\, drawing inspiration from many peoples and cultures. Fittingly therefore\, as with all Sonia Sabri Company’s work\, this project is about bringing different artists\, forms and cultures into dialogue with each other and demonstrating their complementary nature\, as a metaphor for our diverse society at large. \nSupported by \n Without Walls Commissioned  by Brighton Festival\, Hat Fair and Certain Blacks
URL:https://festivals.certainblacks.com/event/sonia-sabri-company-mughal-miniatures-the-awakening/2023-07-22/
LOCATION:Royal Victoria Docks\, Western Gate Way\, London\, E16 1FA\, Royal Victoria Docks\, Western Gate Way\, London\, E16 1FA\, London\, London\, E16 1FA\, United Kingdom
CATEGORIES:Ensemble 23,Events
ATTACH;FMTTYPE=image/jpeg:https://festivals.certainblacks.com/wp-content/uploads/2023/06/Mughal-Miniatures-3_credit-Greta-Zabulyte-scaled.jpg
ORGANIZER;CN="Certain Blacks":MAILTO:info@certainblacks.com/
END:VEVENT
END:VCALENDAR