BEGIN:VCALENDAR
VERSION:2.0
PRODID:-//Festivals - ECPv6.2.2//NONSGML v1.0//EN
CALSCALE:GREGORIAN
METHOD:PUBLISH
X-WR-CALNAME:Festivals
X-ORIGINAL-URL:https://festivals.certainblacks.com
X-WR-CALDESC:Events for Festivals
REFRESH-INTERVAL;VALUE=DURATION:PT1H
X-Robots-Tag:noindex
X-PUBLISHED-TTL:PT1H
BEGIN:VTIMEZONE
TZID:UTC
BEGIN:STANDARD
TZOFFSETFROM:+0000
TZOFFSETTO:+0000
TZNAME:UTC
DTSTART:20230101T000000
END:STANDARD
END:VTIMEZONE
BEGIN:VEVENT
DTSTART;TZID=UTC:20230722T120000
DTEND;TZID=UTC:20230722T190000
DTSTAMP:20260423T101523
CREATED:20230605T231049Z
LAST-MODIFIED:20230627T123254Z
UID:22977-1690027200-1690052400@festivals.certainblacks.com
SUMMARY:Miss High Leg Kick - EAU DE MEMOIRE
DESCRIPTION: Miss High Leg Kick\nMiss High Leg Kick is an Olivier Award winning live artist whose work uses collaboration and unusual approaches to audience engagement to create ambitious\, accessible performances. Outdoor shows are marked by humour\, a love of spectacle\, dance and the celebration of the everyday. \nhttps://festivals.certainblacks.com/wp-content/uploads/2023/06/AUDITION-PROJECT.mp4\nEau de Memoire \nExplore the rich experiences and memories evoked by smells in a show that celebrates our oldest sense.  Artists will present live ‘perfumances’ with smell-along fragrances bringing memories of places and times to life. Eau de Memoire is a show for everyone\, with inclusivity at its heart. Fun\, quirky and approachable… and smells amazing! \n  \nA
URL:https://festivals.certainblacks.com/event/miss-high-leg-kick-eau-de-memoire/2023-07-22/
LOCATION:Royal Victoria Docks\, Western Gate Way\, London\, E16 1FA\, Royal Victoria Docks\, Western Gate Way\, London\, E16 1FA\, London\, London\, E16 1FA\, United Kingdom
CATEGORIES:Ensemble 23,Events
ATTACH;FMTTYPE=image/jpeg:https://festivals.certainblacks.com/wp-content/uploads/2023/06/Eau-de-Memoire-Miss-High-Leg-Kick-at-SIRF-2022-©-Stockton-Borough-Council-12.jpg
ORGANIZER;CN="Certain Blacks":MAILTO:info@certainblacks.com/
END:VEVENT
END:VCALENDAR